BEGIN:VCALENDAR
VERSION:2.0
PRODID:-//MŠ Doubravcice - ECPv5.10.1//NONSGML v1.0//EN
CALSCALE:GREGORIAN
METHOD:PUBLISH
X-WR-CALNAME:MŠ Doubravcice
X-ORIGINAL-URL:https://ms.doubravcice.cz
X-WR-CALDESC:Akce na MŠ Doubravcice
BEGIN:VTIMEZONE
TZID:Europe/Prague
BEGIN:DAYLIGHT
TZOFFSETFROM:+0100
TZOFFSETTO:+0200
TZNAME:CEST
DTSTART:20240331T010000
END:DAYLIGHT
BEGIN:STANDARD
TZOFFSETFROM:+0200
TZOFFSETTO:+0100
TZNAME:CET
DTSTART:20241027T010000
END:STANDARD
END:VTIMEZONE
BEGIN:VEVENT
DTSTART;TZID=Europe/Prague:20241130T150000
DTEND;TZID=Europe/Prague:20241130T170000
DTSTAMP:20260422T012650
CREATED:20240826T112259Z
LAST-MODIFIED:20240826T114601Z
UID:3882-1732978800-1732986000@ms.doubravcice.cz
SUMMARY:Rozsvícení Vánočního stromu - Zelená třída
DESCRIPTION:Vážení rodiče\, zveme Vás na rozsvícení vánočního stromu na návsi dne 30.11. \nOd 15:00 bude probíhat Vánoční jarmark a následně vystoupení starších dětí. \nDěti ze zelené třídy nevystupují.    \nByl by to pro ně velký tlak a tomu\, je vystavit nechceme\, když si ještě někteří zvykají na školku\, kamarády i na nás dospěláky. \nPřijďte se vy i Vaše děti naladit na vánoční čas. \nRádi Vás uvidíme Adélka a Péťa
URL:https://ms.doubravcice.cz/event/rozsviceni-vanocniho-stromu-zelena-trida/
CATEGORIES:Zelená třída
ATTACH;FMTTYPE=image/jpeg:https://ms.doubravcice.cz/wp-content/uploads/2024/08/n_9131f9dcf11bf1709ed45068db13b5e2.jpg
END:VEVENT
END:VCALENDAR