BEGIN:VCALENDAR
VERSION:2.0
PRODID:-//MŠ Doubravcice - ECPv5.10.1//NONSGML v1.0//EN
CALSCALE:GREGORIAN
METHOD:PUBLISH
X-WR-CALNAME:MŠ Doubravcice
X-ORIGINAL-URL:https://ms.doubravcice.cz
X-WR-CALDESC:Akce na MŠ Doubravcice
BEGIN:VTIMEZONE
TZID:Europe/Prague
BEGIN:DAYLIGHT
TZOFFSETFROM:+0100
TZOFFSETTO:+0200
TZNAME:CEST
DTSTART:20240331T010000
END:DAYLIGHT
BEGIN:STANDARD
TZOFFSETFROM:+0200
TZOFFSETTO:+0100
TZNAME:CET
DTSTART:20241027T010000
END:STANDARD
END:VTIMEZONE
BEGIN:VEVENT
DTSTART;TZID=Europe/Prague:20241130T153000
DTEND;TZID=Europe/Prague:20241130T170000
DTSTAMP:20260421T224116
CREATED:20240901T153453Z
LAST-MODIFIED:20240901T155424Z
UID:3990-1732980600-1732986000@ms.doubravcice.cz
SUMMARY:Rozsvícení stromu sobota 30.11.
DESCRIPTION:Odpolední akce\, vystoupení dětí\, místní aktivity na návsi před obecním úřadem
URL:https://ms.doubravcice.cz/event/rozsviceni-stromu-sobota-30-11/
CATEGORIES:Medová třída
ATTACH;FMTTYPE=image/jpeg:https://ms.doubravcice.cz/wp-content/uploads/2024/08/n_9131f9dcf11bf1709ed45068db13b5e2.jpg
END:VEVENT
END:VCALENDAR